BEGIN:VCALENDAR
VERSION:2.0
PRODID:DPCALENDAR
CALSCALE:GREGORIAN
X-WR-TIMEZONE:UTC
BEGIN:VEVENT
DTSTART;VALUE=DATE:20260605
DTEND;VALUE=DATE:20260606
UID:D735F055-1069-4CAD-91B1-D4A463FB0811
SUMMARY:beweglicher Ferientag (keine Bedarfsabfrage)
CREATED:20260321T151323Z
DTSTAMP:20260321T151323Z
URL:https://grundschule-tuernich.de/component/dpcalendar/event/86?calid=25
LAST-MODIFIED:20260321T151323Z
SEQUENCE:0
X-ACCESS:1
X-HITS:0
X-COLOR:3366cc
X-SHOW-END-TIME:1
END:VEVENT
END:VCALENDAR