BEGIN:VCALENDAR
VERSION:2.0
PRODID:DPCALENDAR
CALSCALE:GREGORIAN
X-WR-TIMEZONE:UTC
BEGIN:VEVENT
DTSTART;VALUE=DATE:20260618
DTEND;VALUE=DATE:20260619
UID:D5700634-EB21-4A1F-B75E-DD8D430668AB
SUMMARY:Ganztag OGS (Unterricht nach Plan, danach keine Betreuung)
CREATED:20260321T151817Z
DTSTAMP:20260321T151817Z
URL:https://grundschule-tuernich.de/component/dpcalendar/event/89?calid=25
LAST-MODIFIED:20260321T151817Z
SEQUENCE:0
X-ACCESS:1
X-HITS:0
X-COLOR:3366cc
X-SHOW-END-TIME:1
END:VEVENT
END:VCALENDAR